BEGIN:VCALENDAR
VERSION:2.0
PRODID:-//ChamberMaster//Event Calendar 2.0//EN
METHOD:PUBLISH
X-PUBLISHED-TTL:P1H
REFRESH-INTERVAL:P1H
CALSCALE:GREGORIAN
BEGIN:VTIMEZONE
TZID:America/Los_Angeles
BEGIN:DAYLIGHT
RRULE:FREQ=YEARLY;BYMONTH=3;BYDAY=2SU
DTSTART:20070101T000000
TZOFFSETFROM:-0800
TZOFFSETTO:-0700
TZNAME:Pacific Daylight Time
END:DAYLIGHT
BEGIN:STANDARD
RRULE:FREQ=YEARLY;BYMONTH=11;BYDAY=1SU
DTSTART:20070101T000000
TZOFFSETFROM:-0700
TZOFFSETTO:-0800
TZNAME:Pacific Standard Time
END:STANDARD
END:VTIMEZONE
BEGIN:VEVENT
DTSTART;TZID=America/Los_Angeles:20260418T200000
DTEND;TZID=America/Los_Angeles:20260419T143000
X-MICROSOFT-CDO-ALLDAYEVENT:FALSE
SUMMARY:On The 20th Century: In Concert
DESCRIPTION:All aboard for our annual spring fundraiser! While last season took us to the North Atlantic on the Titanic\, for this trip\, we're hopping "On the 20th Century" for a night of dazzling\, fast-paced musical comedy! This Tony-winning spectacle from Cy Coleman\, Betty Comden\, and Adolph Green (the team behind past SBMT hits like Singin' in the Rain\, On The Town\, and The Will Rogers Follies!) is a whirlwind of romance\, ambition\, and outrageous antics set aboard a glamorous 1930s luxury train. Follow a down-on-his-luck Broadway producer as he schemes to win back his former muse now a Hollywood star before their train reaches New York. With a sparkling score and madcap humor\, On the Twentieth Century is a first-class ticket to theatrical delight\, with some extra-special touches for the fundraiser event.Buy Tickets Here!
X-ALT-DESC;FMTTYPE=text/html:<!DOCTYPE html><html><head><title></title></head><body aria-disabled="false"><p>All aboard for our annual spring fundraiser! While last season took us to the North Atlantic on the Titanic\, for this trip\, we&rsquo\;re hopping &quot\;On the 20th Century&quot\; for a night of dazzling\, fast-paced musical comedy! This Tony-winning spectacle from Cy Coleman\, Betty Comden\, and Adolph Green (the team behind past SBMT hits like Singin&rsquo\; in the Rain\, On The Town\, and The Will Rogers Follies!) is a whirlwind of romance\, ambition\, and outrageous antics set aboard a glamorous 1930s luxury train. Follow a down-on-his-luck Broadway producer as he schemes to win back his former muse&mdash\;now a Hollywood star&mdash\;before their train reaches New York. With a sparkling score and madcap humor\, On the Twentieth Century is a first-class ticket to theatrical delight\, with some extra-special touches for the fundraiser event.</p><p><a fr-original-style="" href="https://southbaymt.com/shows/ticket-sales/20th-century/" rel="noopener noreferrer" style="user-select: auto\;" target="_blank"><strong fr-original-style="" style="font-weight: 700\;"><span style="font-size: 18px\;">Buy Tickets Here!</span></strong></a></p></body></html>
LOCATION:13777 Fruitvale Ave. Saratoga CA 95070
UID:e.3215.1441016
SEQUENCE:3
DTSTAMP:20260420T085655Z
URL:https://members.theatrebayarea.org/batwcalendar/Details/on-the-20th-century-in-concert-1706218?sourceTypeId=Hub
END:VEVENT
END:VCALENDAR
