BEGIN:VCALENDAR
VERSION:2.0
PRODID:-//ChamberMaster//Event Calendar 2.0//EN
METHOD:PUBLISH
X-PUBLISHED-TTL:P1H
REFRESH-INTERVAL:P1H
CALSCALE:GREGORIAN
BEGIN:VTIMEZONE
TZID:America/Los_Angeles
BEGIN:DAYLIGHT
RRULE:FREQ=YEARLY;BYMONTH=3;BYDAY=2SU
DTSTART:20070101T000000
TZOFFSETFROM:-0800
TZOFFSETTO:-0700
TZNAME:Pacific Daylight Time
END:DAYLIGHT
BEGIN:STANDARD
RRULE:FREQ=YEARLY;BYMONTH=11;BYDAY=1SU
DTSTART:20070101T000000
TZOFFSETFROM:-0700
TZOFFSETTO:-0800
TZNAME:Pacific Standard Time
END:STANDARD
END:VTIMEZONE
BEGIN:VEVENT
DTSTART;TZID=America/Los_Angeles:20260329T143000
DTEND;TZID=America/Los_Angeles:20260419T143000
X-MICROSOFT-CDO-ALLDAYEVENT:FALSE
SUMMARY:Lost in Yonkers
DESCRIPTION:To celebrate the 35th Anniversary of the opening of Lesher Center for the Arts\, Center REP is proud to present the 35th anniversary revival production of Neil Simon's Pulitzer Prize and Tony Award-winning heartfelt comedy. Hailed as "Simon's most affecting works" (The New York Times)\, this multi-award-winning memory play transports us to a small apartment above a candy store in Yonkers\, NY in 1942. Financially strapped and needing to dig his family out of medical debt\, Eddie must leave his two teen boys to live with his sister and mother while he takes to the road as a salesman. A strange new world opens up to the boys as they must navigate their estranged mafia-linked Uncle Louie and authoritarian Grandma Kurnitz (and her odious mustard soup) while befriending their neurodiverse Aunt Bella\, whose love and determination buoys the family against the headwinds of transformation.  Buy Tickets Here!
X-ALT-DESC;FMTTYPE=text/html:<!DOCTYPE html><html><head><title></title></head><body aria-disabled="false"><p><meta charset="utf-8"></p><p data-ccp-border-between="0px none #000000" data-ccp-border-bottom="0px none #000000" data-ccp-padding-between="0px" data-ccp-padding-bottom="0px" style='box-sizing: border-box\; margin: 0px 0px 1em\; letter-spacing: normal\; color: rgb(0\, 0\, 0)\; font-family: "Work Sans"\, sans-serif\; font-size: 18px\; font-style: normal\; font-variant-ligatures: normal\; font-variant-caps: normal\; font-weight: 400\; orphans: 2\; text-align: left\; text-indent: 0px\; text-transform: none\; widows: 2\; word-spacing: 0px\; -webkit-text-stroke-width: 0px\; white-space: normal\; background-color: rgb(255\, 255\, 255)\; text-decoration-thickness: initial\; text-decoration-style: initial\; text-decoration-color: initial\;'>To celebrate the 35th Anniversary of the opening of Lesher Center for the Arts\, Center REP is proud to present the 35th anniversary revival production of Neil Simon&rsquo\;s Pulitzer Prize and Tony Award-winning heartfelt comedy.&nbsp\;</p><p data-ccp-border-between="0px none #000000" data-ccp-border-bottom="0px none #000000" data-ccp-padding-between="0px" data-ccp-padding-bottom="0px" style='box-sizing: border-box\; margin: 0px 0px 1em\; letter-spacing: normal\; color: rgb(0\, 0\, 0)\; font-family: "Work Sans"\, sans-serif\; font-size: 18px\; font-style: normal\; font-variant-ligatures: normal\; font-variant-caps: normal\; font-weight: 400\; orphans: 2\; text-align: left\; text-indent: 0px\; text-transform: none\; widows: 2\; word-spacing: 0px\; -webkit-text-stroke-width: 0px\; white-space: normal\; background-color: rgb(255\, 255\, 255)\; text-decoration-thickness: initial\; text-decoration-style: initial\; text-decoration-color: initial\;'>Hailed as &ldquo\;Simon&rsquo\;s most affecting works&rdquo\; (<em style="box-sizing: border-box\;">The New York Times</em>)\, this multi-award-winning memory play transports us to a small apartment above a candy store in Yonkers\, NY in 1942. Financially strapped and needing to dig his family out of medical debt\, Eddie must leave his two teen boys to live with his sister and mother while he takes to the road as a salesman. A strange new world opens up to the boys as they must navigate their estranged mafia-linked Uncle Louie and authoritarian Grandma Kurnitz (and her odious mustard soup) while befriending their neurodiverse Aunt Bella\, whose love and determination buoys the family against the headwinds of transformation. &nbsp\;</p><p data-ccp-border-between="0px none #000000" data-ccp-border-bottom="0px none #000000" data-ccp-padding-between="0px" data-ccp-padding-bottom="0px" style='box-sizing: border-box\; margin: 0px 0px 1em\; letter-spacing: normal\; color: rgb(0\, 0\, 0)\; font-family: "Work Sans"\, sans-serif\; font-size: 18px\; font-style: normal\; font-variant-ligatures: normal\; font-variant-caps: normal\; font-weight: 400\; orphans: 2\; text-align: left\; text-indent: 0px\; text-transform: none\; widows: 2\; word-spacing: 0px\; -webkit-text-stroke-width: 0px\; white-space: normal\; background-color: rgb(255\, 255\, 255)\; text-decoration-thickness: initial\; text-decoration-style: initial\; text-decoration-color: initial\;'><a fr-original-style="" href="https://www.centerrep.org/what-s-on/25-26-season/lost-in-yonkers" rel="noopener noreferrer" style="user-select: auto\;" target="_blank"><span style="font-size: 18px\;">Buy Tickets Here!</span></a></p></body></html>
LOCATION:1601 Civic Dr. Walnut Creek CA 94596
UID:e.3215.1430061
SEQUENCE:3
DTSTAMP:20260420T084651Z
URL:https://members.theatrebayarea.org/batwcalendar/Details/lost-in-yonkers-1692011?sourceTypeId=Hub
END:VEVENT
END:VCALENDAR
