BEGIN:VCALENDAR
VERSION:2.0
PRODID:-//ChamberMaster//Event Calendar 2.0//EN
METHOD:PUBLISH
X-PUBLISHED-TTL:P1H
REFRESH-INTERVAL:P1H
CALSCALE:GREGORIAN
BEGIN:VTIMEZONE
TZID:America/Los_Angeles
BEGIN:DAYLIGHT
RRULE:FREQ=YEARLY;BYMONTH=3;BYDAY=2SU
DTSTART:20070101T000000
TZOFFSETFROM:-0800
TZOFFSETTO:-0700
TZNAME:Pacific Daylight Time
END:DAYLIGHT
BEGIN:STANDARD
RRULE:FREQ=YEARLY;BYMONTH=11;BYDAY=1SU
DTSTART:20070101T000000
TZOFFSETFROM:-0700
TZOFFSETTO:-0800
TZNAME:Pacific Standard Time
END:STANDARD
END:VTIMEZONE
BEGIN:VEVENT
DTSTART;TZID=America/Los_Angeles:20260423T193000
DTEND;TZID=America/Los_Angeles:20260423T213000
X-MICROSOFT-CDO-ALLDAYEVENT:FALSE
SUMMARY:Lemonade Night: Anon(ymous)
DESCRIPTION:Support theatre makers in need through a night out at the theatre! At this performances of "Anon(ymous)" on April 23\, there will be the opportunity to support and learn more about the TBA Mary Mason Memorial Lemonade Fund. 'Anon(ymous)' by Naomi Iizuka is a powerful journey of identity\, resilience\, and the search for home. Lost in an unfamiliar world\, a young refugee named Anon navigates a perilous odyssey across a fractured landscape\, encountering a cast of strangers - some kind\, some cruel\, all searching for something. Separated from his mother\, Anon must rely on his wit\, courage\, and hope to survive as he moves through a tapestry of haunting\, poetic\, and surreal encounters. Inspired by Homer's The Odyssey\, 'Anon(ymous)' is a timely\, lyrical and urgent reimagining of what it means to belong. It is a journey that explores the power of memory\, the pain of displacement\, and the strength of an individual as he confronts his identity.Buy Tickets Here!About the Lemonade FundThe Mary Mason Memorial Lemonade Fund is a confidential resource for theatre practitioners with critical illnesses\, conditions\, or injuries who are in need of supplemental financial assistance.\n\nSince 2000\, Theatre Bay Area has distributed over $100\,000 to theatre workers in need through the Lemonade Fund. Much of it is made possible through generous donations by fellow artists.
X-ALT-DESC;FMTTYPE=text/html:<!DOCTYPE html><html><head><title></title></head><body aria-disabled="false"><p><b style='box-sizing: border-box\; font-weight: 700\; color: rgb(35\, 31\, 32)\; font-family: "PT Sans"\, sans-serif\; font-size: 16px\; font-style: normal\; font-variant-ligatures: normal\; font-variant-caps: normal\; letter-spacing: normal\; orphans: 2\; text-align: start\; text-indent: 0px\; text-transform: none\; widows: 2\; word-spacing: 0px\; -webkit-text-stroke-width: 0px\; white-space: normal\; background-color: rgb(255\, 255\, 255)\; text-decoration-thickness: initial\; text-decoration-style: initial\; text-decoration-color: initial\;'>Support theatre makers in need through a night out at the theatre! At this performances of &quot\;Anon(ymous)&quot\; on April 23\, there will be the opportunity to support and learn more about the TBA Mary Mason Memorial Lemonade Fund.</b><span style='color: rgb(35\, 31\, 32)\; font-family: "PT Sans"\, sans-serif\; font-size: 16px\; font-style: normal\; font-variant-ligatures: normal\; font-variant-caps: normal\; font-weight: 400\; letter-spacing: normal\; orphans: 2\; text-align: start\; text-indent: 0px\; text-transform: none\; widows: 2\; word-spacing: 0px\; -webkit-text-stroke-width: 0px\; white-space: normal\; background-color: rgb(255\, 255\, 255)\; text-decoration-thickness: initial\; text-decoration-style: initial\; text-decoration-color: initial\; display: inline !important\; float: none\;'>&nbsp\;</span></p><p>&#39\;Anon(ymous)&#39\; by Naomi Iizuka is a powerful journey of identity\, resilience\, and the search for home. Lost in an unfamiliar world\, a young refugee named Anon navigates a perilous odyssey across a fractured landscape\, encountering a cast of strangers - some kind\, some cruel\, all searching for something. Separated from his mother\, Anon must rely on his wit\, courage\, and hope to survive as he moves through a tapestry of haunting\, poetic\, and surreal encounters. Inspired by Homer&rsquo\;s The Odyssey\, &#39\;Anon(ymous)&#39\; is a timely\, lyrical and urgent reimagining of what it means to belong. It is a journey that explores the power of memory\, the pain of displacement\, and the strength of an individual as he confronts his identity.</p><p><a fr-original-style="" href="http://thepear.org/whats-playing" rel="noopener noreferrer" style="user-select: auto\;" target="_blank"><strong fr-original-style="" style="font-weight: 700\;"><span style="font-size: 18px\;">Buy Tickets Here!</span></strong></a></p><p style='box-sizing: border-box\; margin: 0px 0px 1rem\; color: rgb(35\, 31\, 32)\; font-family: "PT Sans"\, sans-serif\; font-size: 16px\; font-style: normal\; font-variant-ligatures: normal\; font-variant-caps: normal\; font-weight: 400\; letter-spacing: normal\; orphans: 2\; text-align: start\; text-indent: 0px\; text-transform: none\; widows: 2\; word-spacing: 0px\; -webkit-text-stroke-width: 0px\; white-space: normal\; background-color: rgb(255\, 255\, 255)\; text-decoration-thickness: initial\; text-decoration-style: initial\; text-decoration-color: initial\;'><a fr-original-style="box-sizing: border-box\; background-color: transparent\; color: rgb(205\, 52\, 106)\; text-decoration: none\; user-select: auto\;" href="https://www.theatrebayarea.org/grants/lemonade-fund/?_gl=1*veqxnl*_gcl_au*MTEwMTY2MDE3My4xNzY0Nzg2Mjgw*_ga*NjcxNDU2NjA5LjE3NDkxNDAxMjU.*_ga_2S3NNMXVXB*czE3NjgzMzMxNzAkbzE5MiRnMSR0MTc2ODMzMzIxMSRqMTkkbDAkaDA." rel="noopener noreferrer" style="box-sizing: border-box\; background-color: transparent\; color: rgb(205\, 52\, 106)\; text-decoration: none\; user-select: auto\;" target="_blank"><strong fr-original-style="box-sizing: border-box\; font-weight: 700\;" style="box-sizing: border-box\; font-weight: 700\;">About the Lemonade Fund</strong></a></p><p style='box-sizing: border-box\; margin: 0px 0px 1rem\; color: rgb(35\, 31\, 32)\; font-family: "PT Sans"\, sans-serif\; font-size: 16px\; font-style: normal\; font-variant-ligatures: normal\; font-variant-caps: normal\; font-weight: 400\; letter-spacing: normal\; orphans: 2\; text-align: start\; text-indent: 0px\; text-transform: none\; widows: 2\; word-spacing: 0px\; -webkit-text-stroke-width: 0px\; white-space: normal\; background-color: rgb(255\, 255\, 255)\; text-decoration-thickness: initial\; text-decoration-style: initial\; text-decoration-color: initial\;'><span style="box-sizing: border-box\; color: rgb(35\, 31\, 32)\;">The&nbsp\;</span><strong fr-original-style="box-sizing: border-box\; font-weight: bold\; color: rgb(35\, 31\, 32)\; font-family: " style="box-sizing: border-box\; font-weight: 700\; color: rgb(35\, 31\, 32)\;">Mary Mason Memorial Lemonade Fund</strong><span style="box-sizing: border-box\; color: rgb(35\, 31\, 32)\;">&nbsp\;is a confidential resource for theatre practitioners with critical illnesses\, conditions\, or injuries who are in need of supplemental financial assistance.</span><br data-uw-rm-sr="" style="box-sizing: border-box\; color: rgb(35\, 31\, 32)\; font-family: &quot\;PT Sans&quot\;\, sans-serif\; font-size: 16px\; font-style: normal\; font-variant-ligatures: normal\; font-variant-caps: normal\; font-weight: 400\; letter-spacing: normal\; orphans: 2\; text-align: start\; text-indent: 0px\; text-transform: none\; widows: 2\; word-spacing: 0px\; -webkit-text-stroke-width: 0px\; white-space: normal\; background-color: rgb(255\, 255\, 255)\; text-decoration-thickness: initial\; text-decoration-style: initial\; text-decoration-color: initial\;"><br data-uw-rm-sr="" style="box-sizing: border-box\; color: rgb(35\, 31\, 32)\; font-family: &quot\;PT Sans&quot\;\, sans-serif\; font-size: 16px\; font-style: normal\; font-variant-ligatures: normal\; font-variant-caps: normal\; font-weight: 400\; letter-spacing: normal\; orphans: 2\; text-align: start\; text-indent: 0px\; text-transform: none\; widows: 2\; word-spacing: 0px\; -webkit-text-stroke-width: 0px\; white-space: normal\; background-color: rgb(255\, 255\, 255)\; text-decoration-thickness: initial\; text-decoration-style: initial\; text-decoration-color: initial\;"><span style="box-sizing: border-box\; color: rgb(35\, 31\, 32)\;">Since 2000\, Theatre Bay Area has distributed over $100\,000 to theatre workers in need through the Lemonade Fund. Much of it is made possible through generous donations by fellow artists.&nbsp\;</span></p></body></html>
LOCATION:1110 La Avenida Mountain View CA 94303
UID:e.3215.1437658
SEQUENCE:3
DTSTAMP:20260420T084936Z
URL:https://members.theatrebayarea.org/batwcalendar/Details/lemonade-night-anon-ymous-1701603?sourceTypeId=Hub
END:VEVENT
END:VCALENDAR
