BEGIN:VCALENDAR
VERSION:2.0
PRODID:-//ChamberMaster//Event Calendar 2.0//EN
METHOD:PUBLISH
X-PUBLISHED-TTL:P1H
REFRESH-INTERVAL:P1H
CALSCALE:GREGORIAN
BEGIN:VTIMEZONE
TZID:America/Los_Angeles
BEGIN:DAYLIGHT
RRULE:FREQ=YEARLY;BYMONTH=3;BYDAY=2SU
DTSTART:20070101T000000
TZOFFSETFROM:-0800
TZOFFSETTO:-0700
TZNAME:Pacific Daylight Time
END:DAYLIGHT
BEGIN:STANDARD
RRULE:FREQ=YEARLY;BYMONTH=11;BYDAY=1SU
DTSTART:20070101T000000
TZOFFSETFROM:-0700
TZOFFSETTO:-0800
TZNAME:Pacific Standard Time
END:STANDARD
END:VTIMEZONE
BEGIN:VEVENT
DTSTART;TZID=America/Los_Angeles:20260708T130000
DTEND;TZID=America/Los_Angeles:20260708T150000
X-MICROSOFT-CDO-ALLDAYEVENT:FALSE
SUMMARY:PDN San Francisco Drop off
DESCRIPTION:RSVP for this PDN drop-off by registering for this event. Then all that is left to do is to bundle and bring your postcards to Z Space for delivery across the Bay! We currently offer delivery routes in four regions: San FranciscoNorth BayEast BaySouth Bay/PeninsulaBring your cards for all your desired regions to this drop-off.*  For full route details and to purchase your delivery visit TheatreBayArea.org/pdnIf there are no RSVPs for this drop-off 1 business day in advance\, we will cancel the drop-off.*please note we do not store postcards for future delivery so please only bring cards for this month's distribution.
X-ALT-DESC;FMTTYPE=text/html:<!DOCTYPE html><html><head><title></title></head><body aria-disabled="false"><p><span style="font-size: 18px\;">RSVP for this PDN drop-off by registering for this event. Then all that is left to do is to bundle and bring your postcards to Z Space for delivery across the Bay!&nbsp\;</span></p><p><span style="font-size: 18px\;">We currently offer delivery routes in four regions:&nbsp\;</span></p><ul fr-original-style="" style="list-style-position: inside\;"><li style="font-size: 18px\;">San Francisco</li><li style="font-size: 18px\;">North Bay</li><li style="font-size: 18px\;">East Bay</li><li style="font-size: 18px\;">South Bay/Peninsula</li></ul><p><span style="font-size: 18px\;">Bring your cards for all your desired regions to this drop-off.* &nbsp\;</span></p><p><span style="font-size: 18px\;">For full route details and to purchase your delivery visit&nbsp\;</span><a fr-original-style="" href="http://TheatreBayArea.org/pdn" rel="noopener noreferrer" style="user-select: auto\;" target="_blank"><span style="font-size: 18px\;">TheatreBayArea.org/pdn</span></a></p><p><span style="font-size: 18px\;"><em>If there are no RSVPs for this drop-off <strong fr-original-style="" style="font-weight: 700\;">1 business day&nbsp\;</strong>in advance\, we will cancel the drop-off.</em></span></p><p>*please note we do not store postcards for future delivery so please only bring cards for this month&#39\;s distribution.</p></body></html>
LOCATION:450 Florida Street San Francisco CA
UID:e.3215.1443099
SEQUENCE:3
DTSTAMP:20260426T000308Z
URL:https://members.theatrebayarea.org/batwcalendar/Details/pdn-san-francisco-drop-off-1709207?sourceTypeId=Hub
END:VEVENT
END:VCALENDAR
